BEGIN:VCALENDAR
VERSION:2.0
PRODID:-//hacksw/handcal//NONSGML v1.0//EN
BEGIN:VEVENT
SUMMARY:tournoi de trouillas
UID:4135835a-d69f-4ef6-b3f5-01eb527b8666
DTSTART:20260508T080000Z
DTEND:20260510T163000Z
LOCATION:Localisation gymnase de malaffoce 66300 TROUILLAS
CATEGORIES:Sportif
STATUS:
URL;VALUE=URI:https://dojosdesaspres.sportsregions.fr/evenements/2026/05/08/tournoi-de-trouillas-2441885
END:VEVENT
END:VCALENDAR
